BEGIN:VCALENDAR
VERSION:2.0
PRODID:-//terrane.firespring.org//NONSGML kigkonsult.se iCalcreator 2.30.10
 //
CALSCALE:GREGORIAN
METHOD:PUBLISH
UID:674f69fd-96f2-4e35-ab63-e365d89e1168
X-WR-CALDESC:Monthly Board Meeting
X-WR-RELCALID:8e8acbae7c0b6969ac1d3ec0017f45c7
X-WR-TIMEZONE:America/Chicago
BEGIN:VTIMEZONE
TZID:America/Chicago
BEGIN:STANDARD
TZNAME:CST
DTSTART:20251102T020000
TZOFFSETFROM:-0500
TZOFFSETTO:-0600
RDATE:20261101T020000
RDATE:20271107T020000
END:STANDARD
BEGIN:DAYLIGHT
TZNAME:CDT
DTSTART:20260308T020000
TZOFFSETFROM:-0600
TZOFFSETTO:-0500
RDATE:20270314T020000
END:DAYLIGHT
END:VTIMEZONE
BEGIN:VEVENT
UID:b6d0991b-09b1-4477-ad96-1da6884749bf
DTSTAMP:20260422T084231Z
DESCRIPTION:Monthly Board Meeting
DTSTART;TZID=America/Chicago:20260904T183000
DTEND;TZID=America/Chicago:20260904T200000
LOCATION:Atrium Meeting Room
SUMMARY:Board Meeting
END:VEVENT
END:VCALENDAR
