BEGIN:VCALENDAR
VERSION:2.0
PRODID:-//terrane.firespring.org//NONSGML kigkonsult.se iCalcreator 2.30.10
 //
CALSCALE:GREGORIAN
METHOD:PUBLISH
UID:3904a6c3-4de2-47a3-843a-84d08c9ab8a2
X-WR-CALDESC:Monthly Board Meeting
X-WR-RELCALID:588df8874a9c6a4aa5d51373ed31ef2d
X-WR-TIMEZONE:America/Chicago
BEGIN:VTIMEZONE
TZID:America/Chicago
BEGIN:STANDARD
TZNAME:CST
DTSTART:20251102T020000
TZOFFSETFROM:-0500
TZOFFSETTO:-0600
RDATE:20261101T020000
RDATE:20271107T020000
END:STANDARD
BEGIN:DAYLIGHT
TZNAME:CDT
DTSTART:20260308T020000
TZOFFSETFROM:-0600
TZOFFSETTO:-0500
RDATE:20270314T020000
RDATE:20280312T020000
END:DAYLIGHT
END:VTIMEZONE
BEGIN:VEVENT
UID:35e57c3f-20d3-4da2-9a11-d7c8cac1e4c0
DTSTAMP:20260420T094500Z
DESCRIPTION:Monthly Board Meeting
DTSTART;TZID=America/Chicago:20261002T183000
DTEND;TZID=America/Chicago:20261002T200000
LOCATION:Atrium Meeting Room
SUMMARY:Board Meeting
END:VEVENT
END:VCALENDAR
