BEGIN:VCALENDAR
VERSION:2.0
PRODID:-//terrane.firespring.org//NONSGML kigkonsult.se iCalcreator 2.30.10
 //
CALSCALE:GREGORIAN
METHOD:PUBLISH
UID:445227d1-9f22-4284-a305-92c834e02a9c
X-WR-CALDESC:Monthly Board Meeting
X-WR-RELCALID:df0d29faf77ae185e4e9b018a8d57efe
X-WR-TIMEZONE:America/Chicago
BEGIN:VTIMEZONE
TZID:America/Chicago
BEGIN:STANDARD
TZNAME:CST
DTSTART:20261101T020000
TZOFFSETFROM:-0500
TZOFFSETTO:-0600
RDATE:20271107T020000
END:STANDARD
BEGIN:DAYLIGHT
TZNAME:CDT
DTSTART:20270314T020000
TZOFFSETFROM:-0600
TZOFFSETTO:-0500
RDATE:20280312T020000
END:DAYLIGHT
END:VTIMEZONE
BEGIN:VEVENT
UID:19bec9b3-5541-41c7-85a4-e96496780765
DTSTAMP:20260422T152811Z
DESCRIPTION:Monthly Board Meeting
DTSTART;TZID=America/Chicago:20270402T183000
DTEND;TZID=America/Chicago:20270402T200000
LOCATION:Atrium Meeting Room
SUMMARY:Board Meeting
END:VEVENT
END:VCALENDAR
