BEGIN:VCALENDAR
VERSION:2.0
PRODID:-//terrane.firespring.org//NONSGML kigkonsult.se iCalcreator 2.30.10
 //
CALSCALE:GREGORIAN
METHOD:PUBLISH
UID:e7b3e317-9e46-4d03-aaae-8d72314669e2
X-WR-CALDESC:Monthly Board Meeting
X-WR-RELCALID:30d6fe8282b3431f71c59918f3003c44
X-WR-TIMEZONE:America/Chicago
BEGIN:VTIMEZONE
TZID:America/Chicago
BEGIN:STANDARD
TZNAME:CST
DTSTART:20261101T020000
TZOFFSETFROM:-0500
TZOFFSETTO:-0600
RDATE:20271107T020000
RDATE:20281105T020000
END:STANDARD
BEGIN:DAYLIGHT
TZNAME:CDT
DTSTART:20270314T020000
TZOFFSETFROM:-0600
TZOFFSETTO:-0500
RDATE:20280312T020000
END:DAYLIGHT
END:VTIMEZONE
BEGIN:VEVENT
UID:42375ad2-3f4c-4546-a004-3088bff6128d
DTSTAMP:20260422T163335Z
DESCRIPTION:Monthly Board Meeting
DTSTART;TZID=America/Chicago:20270507T183000
DTEND;TZID=America/Chicago:20270507T200000
LOCATION:Atrium Meeting Room
SUMMARY:Board Meeting
END:VEVENT
END:VCALENDAR
