BEGIN:VCALENDAR
VERSION:2.0
PRODID:-//terrane.firespring.org//NONSGML kigkonsult.se iCalcreator 2.30.10
 //
CALSCALE:GREGORIAN
METHOD:PUBLISH
UID:21abce18-04a1-4bdf-944a-598034e7fe8a
X-WR-CALDESC:Monthly Board Meeting
X-WR-RELCALID:0099fc48e57d4c913cae843493487384
X-WR-TIMEZONE:America/Chicago
BEGIN:VTIMEZONE
TZID:America/Chicago
BEGIN:STANDARD
TZNAME:CST
DTSTART:20261101T020000
TZOFFSETFROM:-0500
TZOFFSETTO:-0600
RDATE:20271107T020000
RDATE:20281105T020000
END:STANDARD
BEGIN:DAYLIGHT
TZNAME:CDT
DTSTART:20270314T020000
TZOFFSETFROM:-0600
TZOFFSETTO:-0500
RDATE:20280312T020000
END:DAYLIGHT
END:VTIMEZONE
BEGIN:VEVENT
UID:2c1687b8-00c9-4534-b156-d2b9b236b95e
DTSTAMP:20260422T181450Z
DESCRIPTION:Monthly Board Meeting
DTSTART;TZID=America/Chicago:20270604T183000
DTEND;TZID=America/Chicago:20270604T200000
LOCATION:Atrium Meeting Room
SUMMARY:Board Meeting
END:VEVENT
END:VCALENDAR
