BEGIN:VCALENDAR
VERSION:2.0
PRODID:-//terrane.firespring.org//NONSGML kigkonsult.se iCalcreator 2.30.10
 //
CALSCALE:GREGORIAN
METHOD:PUBLISH
UID:6b0fc158-c31e-4335-ade8-cda92424794b
X-WR-CALDESC:Monthly Board Meeting
X-WR-RELCALID:47d0f9038977e59f8f31f17310fd1433
X-WR-TIMEZONE:America/Chicago
BEGIN:VTIMEZONE
TZID:America/Chicago
BEGIN:STANDARD
TZNAME:CST
DTSTART:20261101T020000
TZOFFSETFROM:-0500
TZOFFSETTO:-0600
RDATE:20271107T020000
RDATE:20281105T020000
END:STANDARD
BEGIN:DAYLIGHT
TZNAME:CDT
DTSTART:20270314T020000
TZOFFSETFROM:-0600
TZOFFSETTO:-0500
RDATE:20280312T020000
END:DAYLIGHT
END:VTIMEZONE
BEGIN:VEVENT
UID:ca6649f0-ec4d-49e4-9b7c-e46a9101853a
DTSTAMP:20260422T195918Z
DESCRIPTION:Monthly Board Meeting
DTSTART;TZID=America/Chicago:20270702T183000
DTEND;TZID=America/Chicago:20270702T200000
LOCATION:Atrium Meeting Room
SUMMARY:Board Meeting
END:VEVENT
END:VCALENDAR
