BEGIN:VCALENDAR
VERSION:2.0
PRODID:-//terrane.firespring.org//NONSGML kigkonsult.se iCalcreator 2.30.10
 //
CALSCALE:GREGORIAN
METHOD:PUBLISH
UID:0501590e-c76b-46ba-954d-1fc70bfe2815
X-WR-CALDESC:Monthly Board Meeting
X-WR-RELCALID:3cf740aa7090481777d32eba680380d7
X-WR-TIMEZONE:America/Chicago
BEGIN:VTIMEZONE
TZID:America/Chicago
BEGIN:STANDARD
TZNAME:CST
DTSTART:20261101T020000
TZOFFSETFROM:-0500
TZOFFSETTO:-0600
RDATE:20271107T020000
RDATE:20281105T020000
END:STANDARD
BEGIN:DAYLIGHT
TZNAME:CDT
DTSTART:20270314T020000
TZOFFSETFROM:-0600
TZOFFSETTO:-0500
RDATE:20280312T020000
END:DAYLIGHT
END:VTIMEZONE
BEGIN:VEVENT
UID:5925ddda-7ef6-4fc8-9d17-a52735245f4c
DTSTAMP:20260422T233354Z
DESCRIPTION:Monthly Board Meeting
DTSTART;TZID=America/Chicago:20270903T183000
DTEND;TZID=America/Chicago:20270903T200000
LOCATION:Atrium Meeting Room
SUMMARY:Board Meeting
END:VEVENT
END:VCALENDAR
