BEGIN:VCALENDAR
VERSION:2.0
PRODID:-//terrane.firespring.org//NONSGML kigkonsult.se iCalcreator 2.30.10
 //
CALSCALE:GREGORIAN
METHOD:PUBLISH
UID:a90d6175-532b-4ec7-bf14-b725b7c46802
X-WR-CALDESC:Monthly Board Meeting
X-WR-RELCALID:f7ba3a858e18e13c4c361f0ede44ddea
X-WR-TIMEZONE:America/Chicago
BEGIN:VTIMEZONE
TZID:America/Chicago
BEGIN:STANDARD
TZNAME:CST
DTSTART:20271107T020000
TZOFFSETFROM:-0500
TZOFFSETTO:-0600
RDATE:20281105T020000
END:STANDARD
BEGIN:DAYLIGHT
TZNAME:CDT
DTSTART:20270314T020000
TZOFFSETFROM:-0600
TZOFFSETTO:-0500
RDATE:20280312T020000
RDATE:20290311T020000
END:DAYLIGHT
END:VTIMEZONE
BEGIN:VEVENT
UID:c02257d6-0e5c-4944-9125-073e28619e69
DTSTAMP:20260423T024349Z
DESCRIPTION:Monthly Board Meeting
DTSTART;TZID=America/Chicago:20271105T183000
DTEND;TZID=America/Chicago:20271105T200000
LOCATION:Atrium Meeting Room
SUMMARY:Board Meeting
END:VEVENT
END:VCALENDAR
