BEGIN:VCALENDAR
VERSION:2.0
PRODID:-//terrane.firespring.org//NONSGML kigkonsult.se iCalcreator 2.30.10
 //
CALSCALE:GREGORIAN
METHOD:PUBLISH
UID:959130ef-865a-4362-8c7f-c0665aa80ba7
X-WR-CALDESC:Monthly Board Meeting
X-WR-RELCALID:3ca8bd6f09ac9647bd7ae281bc0ee72e
X-WR-TIMEZONE:America/Chicago
BEGIN:VTIMEZONE
TZID:America/Chicago
BEGIN:STANDARD
TZNAME:CST
DTSTART:20271107T020000
TZOFFSETFROM:-0500
TZOFFSETTO:-0600
RDATE:20281105T020000
END:STANDARD
BEGIN:DAYLIGHT
TZNAME:CDT
DTSTART:20270314T020000
TZOFFSETFROM:-0600
TZOFFSETTO:-0500
RDATE:20280312T020000
RDATE:20290311T020000
END:DAYLIGHT
END:VTIMEZONE
BEGIN:VEVENT
UID:5b343d81-f1c4-445d-ac3d-d1c1d24cc8e9
DTSTAMP:20260423T042807Z
DESCRIPTION:Monthly Board Meeting
DTSTART;TZID=America/Chicago:20271203T183000
DTEND;TZID=America/Chicago:20271203T200000
LOCATION:Atrium Meeting Room
SUMMARY:Board Meeting
END:VEVENT
END:VCALENDAR
