BEGIN:VCALENDAR
VERSION:2.0
PRODID:-//terrane.firespring.org//NONSGML kigkonsult.se iCalcreator 2.30.10
 //
CALSCALE:GREGORIAN
METHOD:PUBLISH
UID:9f772039-01b7-4c11-b0dc-9014f5c27eca
X-WR-CALDESC:Monthly Board Meeting
X-WR-RELCALID:203252065081531a8e47f9b15fc8e02f
X-WR-TIMEZONE:America/Chicago
BEGIN:VTIMEZONE
TZID:America/Chicago
BEGIN:STANDARD
TZNAME:CST
DTSTART:20271107T020000
TZOFFSETFROM:-0500
TZOFFSETTO:-0600
RDATE:20281105T020000
RDATE:20291104T020000
END:STANDARD
BEGIN:DAYLIGHT
TZNAME:CDT
DTSTART:20280312T020000
TZOFFSETFROM:-0600
TZOFFSETTO:-0500
RDATE:20290311T020000
END:DAYLIGHT
END:VTIMEZONE
BEGIN:VEVENT
UID:f32006b9-f0a1-4a3d-a0c8-5c2ed59676c3
DTSTAMP:20260423T155443Z
DESCRIPTION:Monthly Board Meeting
DTSTART;TZID=America/Chicago:20280804T183000
DTEND;TZID=America/Chicago:20280804T200000
LOCATION:Atrium Meeting Room
SUMMARY:Board Meeting
END:VEVENT
END:VCALENDAR
