BEGIN:VCALENDAR
VERSION:2.0
PRODID:-//terrane.firespring.org//NONSGML kigkonsult.se iCalcreator 2.30.10
 //
CALSCALE:GREGORIAN
METHOD:PUBLISH
UID:a9f54186-f1c1-47f0-a88f-0752b72c31e5
X-WR-CALDESC:Monthly Board Meeting
X-WR-RELCALID:459be5c20caa8c05d90d18e62ae794fe
X-WR-TIMEZONE:America/Chicago
BEGIN:VTIMEZONE
TZID:America/Chicago
BEGIN:STANDARD
TZNAME:CST
DTSTART:20271107T020000
TZOFFSETFROM:-0500
TZOFFSETTO:-0600
RDATE:20281105T020000
RDATE:20291104T020000
END:STANDARD
BEGIN:DAYLIGHT
TZNAME:CDT
DTSTART:20280312T020000
TZOFFSETFROM:-0600
TZOFFSETTO:-0500
RDATE:20290311T020000
END:DAYLIGHT
END:VTIMEZONE
BEGIN:VEVENT
UID:a7884a3e-8be5-4f9a-8ebe-f346f9911ac8
DTSTAMP:20260423T172451Z
DESCRIPTION:Monthly Board Meeting
DTSTART;TZID=America/Chicago:20280901T183000
DTEND;TZID=America/Chicago:20280901T200000
LOCATION:Atrium Meeting Room
SUMMARY:Board Meeting
END:VEVENT
END:VCALENDAR
