BEGIN:VCALENDAR
VERSION:2.0
PRODID:-//terrane.firespring.org//NONSGML kigkonsult.se iCalcreator 2.30.10
 //
CALSCALE:GREGORIAN
METHOD:PUBLISH
UID:33dc3f32-54a7-4f52-808c-a87a16938af5
X-WR-CALDESC:Monthly Board Meeting
X-WR-RELCALID:9cbe92322cfe494d6230fe8274a1ce8a
X-WR-TIMEZONE:America/Chicago
BEGIN:VTIMEZONE
TZID:America/Chicago
BEGIN:STANDARD
TZNAME:CST
DTSTART:20281105T020000
TZOFFSETFROM:-0500
TZOFFSETTO:-0600
RDATE:20291104T020000
END:STANDARD
BEGIN:DAYLIGHT
TZNAME:CDT
DTSTART:20280312T020000
TZOFFSETFROM:-0600
TZOFFSETTO:-0500
RDATE:20290311T020000
RDATE:20300310T020000
END:DAYLIGHT
END:VTIMEZONE
BEGIN:VEVENT
UID:7072be9f-9860-449f-91fb-9d2ffaefbb16
DTSTAMP:20260425T152827Z
DESCRIPTION:Monthly Board Meeting
DTSTART;TZID=America/Chicago:20290105T183000
DTEND;TZID=America/Chicago:20290105T200000
LOCATION:Atrium Meeting Room
SUMMARY:Board Meeting
END:VEVENT
END:VCALENDAR
