BEGIN:VCALENDAR
VERSION:2.0
PRODID:-//terrane.firespring.org//NONSGML kigkonsult.se iCalcreator 2.30.10
 //
CALSCALE:GREGORIAN
METHOD:PUBLISH
UID:fae97a79-7950-4257-beaf-41395da5bc2d
X-WR-CALDESC:Monthly Board Meeting
X-WR-RELCALID:84152d126bb184714e06cf1df6515619
X-WR-TIMEZONE:America/Chicago
BEGIN:VTIMEZONE
TZID:America/Chicago
BEGIN:STANDARD
TZNAME:CST
DTSTART:20281105T020000
TZOFFSETFROM:-0500
TZOFFSETTO:-0600
RDATE:20291104T020000
END:STANDARD
BEGIN:DAYLIGHT
TZNAME:CDT
DTSTART:20280312T020000
TZOFFSETFROM:-0600
TZOFFSETTO:-0500
RDATE:20290311T020000
RDATE:20300310T020000
END:DAYLIGHT
END:VTIMEZONE
BEGIN:VEVENT
UID:c08cb1cd-caf2-4840-958f-817a30b534c1
DTSTAMP:20260425T174124Z
DESCRIPTION:Monthly Board Meeting
DTSTART;TZID=America/Chicago:20290302T183000
DTEND;TZID=America/Chicago:20290302T200000
LOCATION:Atrium Meeting Room
SUMMARY:Board Meeting
END:VEVENT
END:VCALENDAR
