BEGIN:VCALENDAR
VERSION:2.0
PRODID:-//terrane.firespring.org//NONSGML kigkonsult.se iCalcreator 2.30.10
 //
CALSCALE:GREGORIAN
METHOD:PUBLISH
UID:23a6505d-3f24-4bfa-ac04-e599a9cd9f4e
X-WR-CALDESC:Monthly Board Meeting
X-WR-RELCALID:d6322b23fb9c725b4f9d66903f07c10d
X-WR-TIMEZONE:America/Chicago
BEGIN:VTIMEZONE
TZID:America/Chicago
BEGIN:STANDARD
TZNAME:CST
DTSTART:20281105T020000
TZOFFSETFROM:-0500
TZOFFSETTO:-0600
RDATE:20291104T020000
END:STANDARD
BEGIN:DAYLIGHT
TZNAME:CDT
DTSTART:20290311T020000
TZOFFSETFROM:-0600
TZOFFSETTO:-0500
RDATE:20300310T020000
END:DAYLIGHT
END:VTIMEZONE
BEGIN:VEVENT
UID:65a32b32-5644-40f7-a5a2-29adebe6b6d3
DTSTAMP:20260425T192846Z
DESCRIPTION:Monthly Board Meeting
DTSTART;TZID=America/Chicago:20290406T183000
DTEND;TZID=America/Chicago:20290406T200000
LOCATION:Atrium Meeting Room
SUMMARY:Board Meeting
END:VEVENT
END:VCALENDAR
