BEGIN:VCALENDAR
VERSION:2.0
PRODID:-//terrane.firespring.org//NONSGML kigkonsult.se iCalcreator 2.30.10
 //
CALSCALE:GREGORIAN
METHOD:PUBLISH
UID:78ecd505-b123-47d5-ab6f-384b48cca9d5
X-WR-CALDESC:Monthly Board Meeting
X-WR-RELCALID:fd7c4c27a13fe98ec5459fffd79fa6b9
X-WR-TIMEZONE:America/Chicago
BEGIN:VTIMEZONE
TZID:America/Chicago
BEGIN:STANDARD
TZNAME:CST
DTSTART:20281105T020000
TZOFFSETFROM:-0500
TZOFFSETTO:-0600
RDATE:20291104T020000
RDATE:20301103T020000
END:STANDARD
BEGIN:DAYLIGHT
TZNAME:CDT
DTSTART:20290311T020000
TZOFFSETFROM:-0600
TZOFFSETTO:-0500
RDATE:20300310T020000
END:DAYLIGHT
END:VTIMEZONE
BEGIN:VEVENT
UID:bcb2ed00-43c3-4e95-ba41-7b305b3d39a4
DTSTAMP:20260425T210815Z
DESCRIPTION:Monthly Board Meeting
DTSTART;TZID=America/Chicago:20290504T183000
DTEND;TZID=America/Chicago:20290504T200000
LOCATION:Atrium Meeting Room
SUMMARY:Board Meeting
END:VEVENT
END:VCALENDAR
