BEGIN:VCALENDAR
VERSION:2.0
PRODID:-//terrane.firespring.org//NONSGML kigkonsult.se iCalcreator 2.30.10
 //
CALSCALE:GREGORIAN
METHOD:PUBLISH
UID:2ef29a3a-05a1-4b92-9b16-22ee363dc48f
X-WR-CALDESC:Monthly Board Meeting
X-WR-RELCALID:2e8fbb69da74bdd3ecdfce166b07eabf
X-WR-TIMEZONE:America/Chicago
BEGIN:VTIMEZONE
TZID:America/Chicago
BEGIN:STANDARD
TZNAME:CST
DTSTART:20281105T020000
TZOFFSETFROM:-0500
TZOFFSETTO:-0600
RDATE:20291104T020000
RDATE:20301103T020000
END:STANDARD
BEGIN:DAYLIGHT
TZNAME:CDT
DTSTART:20290311T020000
TZOFFSETFROM:-0600
TZOFFSETTO:-0500
RDATE:20300310T020000
END:DAYLIGHT
END:VTIMEZONE
BEGIN:VEVENT
UID:2c6c149d-32c5-42ac-b169-8de0fb8ea771
DTSTAMP:20260425T223445Z
DESCRIPTION:Monthly Board Meeting
DTSTART;TZID=America/Chicago:20290601T183000
DTEND;TZID=America/Chicago:20290601T200000
LOCATION:Atrium Meeting Room
SUMMARY:Board Meeting
END:VEVENT
END:VCALENDAR
