BEGIN:VCALENDAR
VERSION:2.0
PRODID:-//terrane.firespring.org//NONSGML kigkonsult.se iCalcreator 2.30.10
 //
CALSCALE:GREGORIAN
METHOD:PUBLISH
UID:4d4e1211-f907-42bf-8f81-50bfabccbdf1
X-WR-CALDESC:Monthly Board Meeting
X-WR-RELCALID:3eb0f9df0e2de376a45f0330b84fd81e
X-WR-TIMEZONE:America/Chicago
BEGIN:VTIMEZONE
TZID:America/Chicago
BEGIN:STANDARD
TZNAME:CST
DTSTART:20281105T020000
TZOFFSETFROM:-0500
TZOFFSETTO:-0600
RDATE:20291104T020000
RDATE:20301103T020000
END:STANDARD
BEGIN:DAYLIGHT
TZNAME:CDT
DTSTART:20290311T020000
TZOFFSETFROM:-0600
TZOFFSETTO:-0500
RDATE:20300310T020000
END:DAYLIGHT
END:VTIMEZONE
BEGIN:VEVENT
UID:9c6c6644-4c0c-4b76-863f-d7e0636c2810
DTSTAMP:20260426T013934Z
DESCRIPTION:Monthly Board Meeting
DTSTART;TZID=America/Chicago:20290803T183000
DTEND;TZID=America/Chicago:20290803T200000
LOCATION:Atrium Meeting Room
SUMMARY:Board Meeting
END:VEVENT
END:VCALENDAR
